BEGIN:VCALENDAR
VERSION:2.0
PRODID:-//Columbus Commons - ECPv6.15.20//NONSGML v1.0//EN
CALSCALE:GREGORIAN
METHOD:PUBLISH
X-WR-CALNAME:Columbus Commons
X-ORIGINAL-URL:https://columbuscommons.org
X-WR-CALDESC:Events for Columbus Commons
REFRESH-INTERVAL;VALUE=DURATION:PT1H
X-Robots-Tag:noindex
X-PUBLISHED-TTL:PT1H
BEGIN:VTIMEZONE
TZID:America/New_York
BEGIN:DAYLIGHT
TZOFFSETFROM:-0500
TZOFFSETTO:-0400
TZNAME:EDT
DTSTART:20250309T070000
END:DAYLIGHT
BEGIN:STANDARD
TZOFFSETFROM:-0400
TZOFFSETTO:-0500
TZNAME:EST
DTSTART:20251102T060000
END:STANDARD
BEGIN:DAYLIGHT
TZOFFSETFROM:-0500
TZOFFSETTO:-0400
TZNAME:EDT
DTSTART:20260308T070000
END:DAYLIGHT
BEGIN:STANDARD
TZOFFSETFROM:-0400
TZOFFSETTO:-0500
TZNAME:EST
DTSTART:20261101T060000
END:STANDARD
BEGIN:DAYLIGHT
TZOFFSETFROM:-0500
TZOFFSETTO:-0400
TZNAME:EDT
DTSTART:20270314T070000
END:DAYLIGHT
BEGIN:STANDARD
TZOFFSETFROM:-0400
TZOFFSETTO:-0500
TZNAME:EST
DTSTART:20271107T060000
END:STANDARD
END:VTIMEZONE
BEGIN:VEVENT
DTSTART;TZID=America/New_York:20260506T073000
DTEND;TZID=America/New_York:20260506T113000
DTSTAMP:20260423T081247
CREATED:20260319T131127Z
LAST-MODIFIED:20260402T212654Z
UID:10001310-1778052600-1778067000@columbuscommons.org
SUMMARY:Breakfast at the Commons
DESCRIPTION:Enjoy a morning pick-me-up with Breakfast at the Commons. Stop by Columbus Commons to enjoy several rotating breakfast food trucks on Wednesday mornings from May through September. 
URL:https://columbuscommons.org/event/breakfast-at-the-commons-3/2026-05-06/
LOCATION:Columbus Commons\, 160 S High St \, OH\, Columbus\, Ohio\, 43215\, United States
CATEGORIES:Food
ATTACH;FMTTYPE=image/jpeg:https://columbuscommons.org/wp-content/uploads/2026/03/DSC00162.jpg
END:VEVENT
BEGIN:VEVENT
DTSTART;TZID=America/New_York:20260513T073000
DTEND;TZID=America/New_York:20260513T113000
DTSTAMP:20260423T081247
CREATED:20260319T131127Z
LAST-MODIFIED:20260402T212654Z
UID:10001311-1778657400-1778671800@columbuscommons.org
SUMMARY:Breakfast at the Commons
DESCRIPTION:Enjoy a morning pick-me-up with Breakfast at the Commons. Stop by Columbus Commons to enjoy several rotating breakfast food trucks on Wednesday mornings from May through September. 
URL:https://columbuscommons.org/event/breakfast-at-the-commons-3/2026-05-13/
LOCATION:Columbus Commons\, 160 S High St \, OH\, Columbus\, Ohio\, 43215\, United States
CATEGORIES:Food
ATTACH;FMTTYPE=image/jpeg:https://columbuscommons.org/wp-content/uploads/2026/03/DSC00162.jpg
END:VEVENT
BEGIN:VEVENT
DTSTART;TZID=America/New_York:20260520T073000
DTEND;TZID=America/New_York:20260520T113000
DTSTAMP:20260423T081247
CREATED:20260319T131127Z
LAST-MODIFIED:20260402T212654Z
UID:10001312-1779262200-1779276600@columbuscommons.org
SUMMARY:Breakfast at the Commons
DESCRIPTION:Enjoy a morning pick-me-up with Breakfast at the Commons. Stop by Columbus Commons to enjoy several rotating breakfast food trucks on Wednesday mornings from May through September. 
URL:https://columbuscommons.org/event/breakfast-at-the-commons-3/2026-05-20/
LOCATION:Columbus Commons\, 160 S High St \, OH\, Columbus\, Ohio\, 43215\, United States
CATEGORIES:Food
ATTACH;FMTTYPE=image/jpeg:https://columbuscommons.org/wp-content/uploads/2026/03/DSC00162.jpg
END:VEVENT
BEGIN:VEVENT
DTSTART;TZID=America/New_York:20260527T073000
DTEND;TZID=America/New_York:20260527T113000
DTSTAMP:20260423T081247
CREATED:20260319T131127Z
LAST-MODIFIED:20260402T212654Z
UID:10001313-1779867000-1779881400@columbuscommons.org
SUMMARY:Breakfast at the Commons
DESCRIPTION:Enjoy a morning pick-me-up with Breakfast at the Commons. Stop by Columbus Commons to enjoy several rotating breakfast food trucks on Wednesday mornings from May through September. 
URL:https://columbuscommons.org/event/breakfast-at-the-commons-3/2026-05-27/
LOCATION:Columbus Commons\, 160 S High St \, OH\, Columbus\, Ohio\, 43215\, United States
CATEGORIES:Food
ATTACH;FMTTYPE=image/jpeg:https://columbuscommons.org/wp-content/uploads/2026/03/DSC00162.jpg
END:VEVENT
BEGIN:VEVENT
DTSTART;TZID=America/New_York:20260603T073000
DTEND;TZID=America/New_York:20260603T113000
DTSTAMP:20260423T081247
CREATED:20260319T131127Z
LAST-MODIFIED:20260402T212654Z
UID:10001314-1780471800-1780486200@columbuscommons.org
SUMMARY:Breakfast at the Commons
DESCRIPTION:Enjoy a morning pick-me-up with Breakfast at the Commons. Stop by Columbus Commons to enjoy several rotating breakfast food trucks on Wednesday mornings from May through September. 
URL:https://columbuscommons.org/event/breakfast-at-the-commons-3/2026-06-03/
LOCATION:Columbus Commons\, 160 S High St \, OH\, Columbus\, Ohio\, 43215\, United States
CATEGORIES:Food
ATTACH;FMTTYPE=image/jpeg:https://columbuscommons.org/wp-content/uploads/2026/03/DSC00162.jpg
END:VEVENT
BEGIN:VEVENT
DTSTART;TZID=America/New_York:20260610T073000
DTEND;TZID=America/New_York:20260610T113000
DTSTAMP:20260423T081247
CREATED:20260319T131127Z
LAST-MODIFIED:20260402T212654Z
UID:10001315-1781076600-1781091000@columbuscommons.org
SUMMARY:Breakfast at the Commons
DESCRIPTION:Enjoy a morning pick-me-up with Breakfast at the Commons. Stop by Columbus Commons to enjoy several rotating breakfast food trucks on Wednesday mornings from May through September. 
URL:https://columbuscommons.org/event/breakfast-at-the-commons-3/2026-06-10/
LOCATION:Columbus Commons\, 160 S High St \, OH\, Columbus\, Ohio\, 43215\, United States
CATEGORIES:Food
ATTACH;FMTTYPE=image/jpeg:https://columbuscommons.org/wp-content/uploads/2026/03/DSC00162.jpg
END:VEVENT
BEGIN:VEVENT
DTSTART;TZID=America/New_York:20260617T073000
DTEND;TZID=America/New_York:20260617T113000
DTSTAMP:20260423T081247
CREATED:20260319T131127Z
LAST-MODIFIED:20260402T212654Z
UID:10001316-1781681400-1781695800@columbuscommons.org
SUMMARY:Breakfast at the Commons
DESCRIPTION:Enjoy a morning pick-me-up with Breakfast at the Commons. Stop by Columbus Commons to enjoy several rotating breakfast food trucks on Wednesday mornings from May through September. 
URL:https://columbuscommons.org/event/breakfast-at-the-commons-3/2026-06-17/
LOCATION:Columbus Commons\, 160 S High St \, OH\, Columbus\, Ohio\, 43215\, United States
CATEGORIES:Food
ATTACH;FMTTYPE=image/jpeg:https://columbuscommons.org/wp-content/uploads/2026/03/DSC00162.jpg
END:VEVENT
BEGIN:VEVENT
DTSTART;TZID=America/New_York:20260624T073000
DTEND;TZID=America/New_York:20260624T113000
DTSTAMP:20260423T081247
CREATED:20260319T131127Z
LAST-MODIFIED:20260402T212654Z
UID:10001317-1782286200-1782300600@columbuscommons.org
SUMMARY:Breakfast at the Commons
DESCRIPTION:Enjoy a morning pick-me-up with Breakfast at the Commons. Stop by Columbus Commons to enjoy several rotating breakfast food trucks on Wednesday mornings from May through September. 
URL:https://columbuscommons.org/event/breakfast-at-the-commons-3/2026-06-24/
LOCATION:Columbus Commons\, 160 S High St \, OH\, Columbus\, Ohio\, 43215\, United States
CATEGORIES:Food
ATTACH;FMTTYPE=image/jpeg:https://columbuscommons.org/wp-content/uploads/2026/03/DSC00162.jpg
END:VEVENT
BEGIN:VEVENT
DTSTART;TZID=America/New_York:20260701T073000
DTEND;TZID=America/New_York:20260701T113000
DTSTAMP:20260423T081247
CREATED:20260319T131127Z
LAST-MODIFIED:20260402T212654Z
UID:10001318-1782891000-1782905400@columbuscommons.org
SUMMARY:Breakfast at the Commons
DESCRIPTION:Enjoy a morning pick-me-up with Breakfast at the Commons. Stop by Columbus Commons to enjoy several rotating breakfast food trucks on Wednesday mornings from May through September. 
URL:https://columbuscommons.org/event/breakfast-at-the-commons-3/2026-07-01/
LOCATION:Columbus Commons\, 160 S High St \, OH\, Columbus\, Ohio\, 43215\, United States
CATEGORIES:Food
ATTACH;FMTTYPE=image/jpeg:https://columbuscommons.org/wp-content/uploads/2026/03/DSC00162.jpg
END:VEVENT
BEGIN:VEVENT
DTSTART;TZID=America/New_York:20260708T073000
DTEND;TZID=America/New_York:20260708T113000
DTSTAMP:20260423T081247
CREATED:20260319T131127Z
LAST-MODIFIED:20260402T212654Z
UID:10001319-1783495800-1783510200@columbuscommons.org
SUMMARY:Breakfast at the Commons
DESCRIPTION:Enjoy a morning pick-me-up with Breakfast at the Commons. Stop by Columbus Commons to enjoy several rotating breakfast food trucks on Wednesday mornings from May through September. 
URL:https://columbuscommons.org/event/breakfast-at-the-commons-3/2026-07-08/
LOCATION:Columbus Commons\, 160 S High St \, OH\, Columbus\, Ohio\, 43215\, United States
CATEGORIES:Food
ATTACH;FMTTYPE=image/jpeg:https://columbuscommons.org/wp-content/uploads/2026/03/DSC00162.jpg
END:VEVENT
BEGIN:VEVENT
DTSTART;TZID=America/New_York:20260715T073000
DTEND;TZID=America/New_York:20260715T113000
DTSTAMP:20260423T081247
CREATED:20260319T131127Z
LAST-MODIFIED:20260402T212654Z
UID:10001320-1784100600-1784115000@columbuscommons.org
SUMMARY:Breakfast at the Commons
DESCRIPTION:Enjoy a morning pick-me-up with Breakfast at the Commons. Stop by Columbus Commons to enjoy several rotating breakfast food trucks on Wednesday mornings from May through September. 
URL:https://columbuscommons.org/event/breakfast-at-the-commons-3/2026-07-15/
LOCATION:Columbus Commons\, 160 S High St \, OH\, Columbus\, Ohio\, 43215\, United States
CATEGORIES:Food
ATTACH;FMTTYPE=image/jpeg:https://columbuscommons.org/wp-content/uploads/2026/03/DSC00162.jpg
END:VEVENT
BEGIN:VEVENT
DTSTART;TZID=America/New_York:20260722T073000
DTEND;TZID=America/New_York:20260722T113000
DTSTAMP:20260423T081247
CREATED:20260319T131127Z
LAST-MODIFIED:20260402T212654Z
UID:10001321-1784705400-1784719800@columbuscommons.org
SUMMARY:Breakfast at the Commons
DESCRIPTION:Enjoy a morning pick-me-up with Breakfast at the Commons. Stop by Columbus Commons to enjoy several rotating breakfast food trucks on Wednesday mornings from May through September. 
URL:https://columbuscommons.org/event/breakfast-at-the-commons-3/2026-07-22/
LOCATION:Columbus Commons\, 160 S High St \, OH\, Columbus\, Ohio\, 43215\, United States
CATEGORIES:Food
ATTACH;FMTTYPE=image/jpeg:https://columbuscommons.org/wp-content/uploads/2026/03/DSC00162.jpg
END:VEVENT
BEGIN:VEVENT
DTSTART;TZID=America/New_York:20260729T073000
DTEND;TZID=America/New_York:20260729T113000
DTSTAMP:20260423T081247
CREATED:20260319T131127Z
LAST-MODIFIED:20260402T212654Z
UID:10001322-1785310200-1785324600@columbuscommons.org
SUMMARY:Breakfast at the Commons
DESCRIPTION:Enjoy a morning pick-me-up with Breakfast at the Commons. Stop by Columbus Commons to enjoy several rotating breakfast food trucks on Wednesday mornings from May through September. 
URL:https://columbuscommons.org/event/breakfast-at-the-commons-3/2026-07-29/
LOCATION:Columbus Commons\, 160 S High St \, OH\, Columbus\, Ohio\, 43215\, United States
CATEGORIES:Food
ATTACH;FMTTYPE=image/jpeg:https://columbuscommons.org/wp-content/uploads/2026/03/DSC00162.jpg
END:VEVENT
BEGIN:VEVENT
DTSTART;TZID=America/New_York:20260805T073000
DTEND;TZID=America/New_York:20260805T113000
DTSTAMP:20260423T081247
CREATED:20260319T131127Z
LAST-MODIFIED:20260402T212654Z
UID:10001323-1785915000-1785929400@columbuscommons.org
SUMMARY:Breakfast at the Commons
DESCRIPTION:Enjoy a morning pick-me-up with Breakfast at the Commons. Stop by Columbus Commons to enjoy several rotating breakfast food trucks on Wednesday mornings from May through September. 
URL:https://columbuscommons.org/event/breakfast-at-the-commons-3/2026-08-05/
LOCATION:Columbus Commons\, 160 S High St \, OH\, Columbus\, Ohio\, 43215\, United States
CATEGORIES:Food
ATTACH;FMTTYPE=image/jpeg:https://columbuscommons.org/wp-content/uploads/2026/03/DSC00162.jpg
END:VEVENT
BEGIN:VEVENT
DTSTART;TZID=America/New_York:20260812T073000
DTEND;TZID=America/New_York:20260812T113000
DTSTAMP:20260423T081247
CREATED:20260319T131127Z
LAST-MODIFIED:20260402T212654Z
UID:10001324-1786519800-1786534200@columbuscommons.org
SUMMARY:Breakfast at the Commons
DESCRIPTION:Enjoy a morning pick-me-up with Breakfast at the Commons. Stop by Columbus Commons to enjoy several rotating breakfast food trucks on Wednesday mornings from May through September. 
URL:https://columbuscommons.org/event/breakfast-at-the-commons-3/2026-08-12/
LOCATION:Columbus Commons\, 160 S High St \, OH\, Columbus\, Ohio\, 43215\, United States
CATEGORIES:Food
ATTACH;FMTTYPE=image/jpeg:https://columbuscommons.org/wp-content/uploads/2026/03/DSC00162.jpg
END:VEVENT
BEGIN:VEVENT
DTSTART;TZID=America/New_York:20260819T073000
DTEND;TZID=America/New_York:20260819T113000
DTSTAMP:20260423T081247
CREATED:20260319T131127Z
LAST-MODIFIED:20260402T212654Z
UID:10001325-1787124600-1787139000@columbuscommons.org
SUMMARY:Breakfast at the Commons
DESCRIPTION:Enjoy a morning pick-me-up with Breakfast at the Commons. Stop by Columbus Commons to enjoy several rotating breakfast food trucks on Wednesday mornings from May through September. 
URL:https://columbuscommons.org/event/breakfast-at-the-commons-3/2026-08-19/
LOCATION:Columbus Commons\, 160 S High St \, OH\, Columbus\, Ohio\, 43215\, United States
CATEGORIES:Food
ATTACH;FMTTYPE=image/jpeg:https://columbuscommons.org/wp-content/uploads/2026/03/DSC00162.jpg
END:VEVENT
BEGIN:VEVENT
DTSTART;TZID=America/New_York:20260826T073000
DTEND;TZID=America/New_York:20260826T113000
DTSTAMP:20260423T081247
CREATED:20260319T131127Z
LAST-MODIFIED:20260402T212654Z
UID:10001326-1787729400-1787743800@columbuscommons.org
SUMMARY:Breakfast at the Commons
DESCRIPTION:Enjoy a morning pick-me-up with Breakfast at the Commons. Stop by Columbus Commons to enjoy several rotating breakfast food trucks on Wednesday mornings from May through September. 
URL:https://columbuscommons.org/event/breakfast-at-the-commons-3/2026-08-26/
LOCATION:Columbus Commons\, 160 S High St \, OH\, Columbus\, Ohio\, 43215\, United States
CATEGORIES:Food
ATTACH;FMTTYPE=image/jpeg:https://columbuscommons.org/wp-content/uploads/2026/03/DSC00162.jpg
END:VEVENT
BEGIN:VEVENT
DTSTART;TZID=America/New_York:20260902T073000
DTEND;TZID=America/New_York:20260902T113000
DTSTAMP:20260423T081247
CREATED:20260319T131127Z
LAST-MODIFIED:20260402T212654Z
UID:10001327-1788334200-1788348600@columbuscommons.org
SUMMARY:Breakfast at the Commons
DESCRIPTION:Enjoy a morning pick-me-up with Breakfast at the Commons. Stop by Columbus Commons to enjoy several rotating breakfast food trucks on Wednesday mornings from May through September. 
URL:https://columbuscommons.org/event/breakfast-at-the-commons-3/2026-09-02/
LOCATION:Columbus Commons\, 160 S High St \, OH\, Columbus\, Ohio\, 43215\, United States
CATEGORIES:Food
ATTACH;FMTTYPE=image/jpeg:https://columbuscommons.org/wp-content/uploads/2026/03/DSC00162.jpg
END:VEVENT
BEGIN:VEVENT
DTSTART;TZID=America/New_York:20260909T073000
DTEND;TZID=America/New_York:20260909T113000
DTSTAMP:20260423T081247
CREATED:20260319T131127Z
LAST-MODIFIED:20260402T212654Z
UID:10001328-1788939000-1788953400@columbuscommons.org
SUMMARY:Breakfast at the Commons
DESCRIPTION:Enjoy a morning pick-me-up with Breakfast at the Commons. Stop by Columbus Commons to enjoy several rotating breakfast food trucks on Wednesday mornings from May through September. 
URL:https://columbuscommons.org/event/breakfast-at-the-commons-3/2026-09-09/
LOCATION:Columbus Commons\, 160 S High St \, OH\, Columbus\, Ohio\, 43215\, United States
CATEGORIES:Food
ATTACH;FMTTYPE=image/jpeg:https://columbuscommons.org/wp-content/uploads/2026/03/DSC00162.jpg
END:VEVENT
BEGIN:VEVENT
DTSTART;TZID=America/New_York:20260916T073000
DTEND;TZID=America/New_York:20260916T113000
DTSTAMP:20260423T081247
CREATED:20260319T131127Z
LAST-MODIFIED:20260402T212654Z
UID:10001329-1789543800-1789558200@columbuscommons.org
SUMMARY:Breakfast at the Commons
DESCRIPTION:Enjoy a morning pick-me-up with Breakfast at the Commons. Stop by Columbus Commons to enjoy several rotating breakfast food trucks on Wednesday mornings from May through September. 
URL:https://columbuscommons.org/event/breakfast-at-the-commons-3/2026-09-16/
LOCATION:Columbus Commons\, 160 S High St \, OH\, Columbus\, Ohio\, 43215\, United States
CATEGORIES:Food
ATTACH;FMTTYPE=image/jpeg:https://columbuscommons.org/wp-content/uploads/2026/03/DSC00162.jpg
END:VEVENT
BEGIN:VEVENT
DTSTART;TZID=America/New_York:20260923T073000
DTEND;TZID=America/New_York:20260923T113000
DTSTAMP:20260423T081247
CREATED:20260319T131127Z
LAST-MODIFIED:20260402T212654Z
UID:10001330-1790148600-1790163000@columbuscommons.org
SUMMARY:Breakfast at the Commons
DESCRIPTION:Enjoy a morning pick-me-up with Breakfast at the Commons. Stop by Columbus Commons to enjoy several rotating breakfast food trucks on Wednesday mornings from May through September. 
URL:https://columbuscommons.org/event/breakfast-at-the-commons-3/2026-09-23/
LOCATION:Columbus Commons\, 160 S High St \, OH\, Columbus\, Ohio\, 43215\, United States
CATEGORIES:Food
ATTACH;FMTTYPE=image/jpeg:https://columbuscommons.org/wp-content/uploads/2026/03/DSC00162.jpg
END:VEVENT
BEGIN:VEVENT
DTSTART;TZID=America/New_York:20260930T073000
DTEND;TZID=America/New_York:20260930T113000
DTSTAMP:20260423T081247
CREATED:20260319T131127Z
LAST-MODIFIED:20260402T212654Z
UID:10001331-1790753400-1790767800@columbuscommons.org
SUMMARY:Breakfast at the Commons
DESCRIPTION:Enjoy a morning pick-me-up with Breakfast at the Commons. Stop by Columbus Commons to enjoy several rotating breakfast food trucks on Wednesday mornings from May through September. 
URL:https://columbuscommons.org/event/breakfast-at-the-commons-3/2026-09-30/
LOCATION:Columbus Commons\, 160 S High St \, OH\, Columbus\, Ohio\, 43215\, United States
CATEGORIES:Food
ATTACH;FMTTYPE=image/jpeg:https://columbuscommons.org/wp-content/uploads/2026/03/DSC00162.jpg
END:VEVENT
END:VCALENDAR