BEGIN:VCALENDAR
VERSION:2.0
PRODID:-//Columbus Commons - ECPv6.15.20//NONSGML v1.0//EN
CALSCALE:GREGORIAN
METHOD:PUBLISH
X-WR-CALNAME:Columbus Commons
X-ORIGINAL-URL:https://columbuscommons.org
X-WR-CALDESC:Events for Columbus Commons
REFRESH-INTERVAL;VALUE=DURATION:PT1H
X-Robots-Tag:noindex
X-PUBLISHED-TTL:PT1H
BEGIN:VTIMEZONE
TZID:America/New_York
BEGIN:DAYLIGHT
TZOFFSETFROM:-0500
TZOFFSETTO:-0400
TZNAME:EDT
DTSTART:20250309T070000
END:DAYLIGHT
BEGIN:STANDARD
TZOFFSETFROM:-0400
TZOFFSETTO:-0500
TZNAME:EST
DTSTART:20251102T060000
END:STANDARD
BEGIN:DAYLIGHT
TZOFFSETFROM:-0500
TZOFFSETTO:-0400
TZNAME:EDT
DTSTART:20260308T070000
END:DAYLIGHT
BEGIN:STANDARD
TZOFFSETFROM:-0400
TZOFFSETTO:-0500
TZNAME:EST
DTSTART:20261101T060000
END:STANDARD
BEGIN:DAYLIGHT
TZOFFSETFROM:-0500
TZOFFSETTO:-0400
TZNAME:EDT
DTSTART:20270314T070000
END:DAYLIGHT
BEGIN:STANDARD
TZOFFSETFROM:-0400
TZOFFSETTO:-0500
TZNAME:EST
DTSTART:20271107T060000
END:STANDARD
END:VTIMEZONE
BEGIN:VEVENT
DTSTART;TZID=America/New_York:20260807T100000
DTEND;TZID=America/New_York:20260807T130000
DTSTAMP:20260423T114410
CREATED:20260319T130342Z
LAST-MODIFIED:20260319T130342Z
UID:1471-1786096800-1786107600@columbuscommons.org
SUMMARY:Commons for Kids - Imagination
DESCRIPTION:Free kid–friendly fun including unique activities facilitated by community partners. \nHappening during Commons for Kids this week: \n\nFace painting and balloon twisting with Pretty as a Princess\nCrafts with Urban Arts Space\, and Ohio Craft Museum\nActivation from Cbus Jammers\nStilt walker performances from The Amazing Giants from 11am – 12pm\nFind your new favorite read with Columbus Metropolitan Library from their mobile library unit\nFree lawn games and carousel rides\, weather permitting 
URL:https://columbuscommons.org/event/commons-for-kids-imagination-2/
LOCATION:Columbus Commons\, 160 S High St \, OH\, Columbus\, Ohio\, 43215\, United States
CATEGORIES:Family
ATTACH;FMTTYPE=image/jpeg:https://columbuscommons.org/wp-content/uploads/2025/02/Robb-McCormick-Photography-38-of-139-scaled.jpg
END:VEVENT
END:VCALENDAR