BEGIN:VCALENDAR
VERSION:2.0
PRODID:-//Columbus Commons - ECPv6.15.20//NONSGML v1.0//EN
CALSCALE:GREGORIAN
METHOD:PUBLISH
X-WR-CALNAME:Columbus Commons
X-ORIGINAL-URL:https://columbuscommons.org
X-WR-CALDESC:Events for Columbus Commons
REFRESH-INTERVAL;VALUE=DURATION:PT1H
X-Robots-Tag:noindex
X-PUBLISHED-TTL:PT1H
BEGIN:VTIMEZONE
TZID:America/New_York
BEGIN:DAYLIGHT
TZOFFSETFROM:-0500
TZOFFSETTO:-0400
TZNAME:EDT
DTSTART:20250309T070000
END:DAYLIGHT
BEGIN:STANDARD
TZOFFSETFROM:-0400
TZOFFSETTO:-0500
TZNAME:EST
DTSTART:20251102T060000
END:STANDARD
BEGIN:DAYLIGHT
TZOFFSETFROM:-0500
TZOFFSETTO:-0400
TZNAME:EDT
DTSTART:20260308T070000
END:DAYLIGHT
BEGIN:STANDARD
TZOFFSETFROM:-0400
TZOFFSETTO:-0500
TZNAME:EST
DTSTART:20261101T060000
END:STANDARD
BEGIN:DAYLIGHT
TZOFFSETFROM:-0500
TZOFFSETTO:-0400
TZNAME:EDT
DTSTART:20270314T070000
END:DAYLIGHT
BEGIN:STANDARD
TZOFFSETFROM:-0400
TZOFFSETTO:-0500
TZNAME:EST
DTSTART:20271107T060000
END:STANDARD
END:VTIMEZONE
BEGIN:VEVENT
DTSTART;TZID=America/New_York:20260509T084500
DTEND;TZID=America/New_York:20260509T120000
DTSTAMP:20260423T081410
CREATED:20260319T130937Z
LAST-MODIFIED:20260420T195957Z
UID:1524-1778316300-1778328000@columbuscommons.org
SUMMARY:Autism Speaks Empower Walk & 5K Run
DESCRIPTION:The Autism Speaks Empower Walk & 5K Run is more than just a walk or run – it is a celebration of community\, inclusion\, and progress. This exciting event combines everything you love about the traditional Autism Speaks Walk with the added energy of a 5K run! Register here. 
URL:https://columbuscommons.org/event/autism-speaks-empower-walk-5k-run/
LOCATION:Columbus Commons\, 160 S High St \, OH\, Columbus\, Ohio\, 43215\, United States
CATEGORIES:Special Events
ATTACH;FMTTYPE=image/png:https://columbuscommons.org/wp-content/uploads/2026/03/empower_walk5k_logo_250.png
END:VEVENT
END:VCALENDAR